BEGIN:VCALENDAR
VERSION:2.0
PRODID:-//Graduate Nurse Midwifery Program - ECPv6.15.20//NONSGML v1.0//EN
CALSCALE:GREGORIAN
METHOD:PUBLISH
X-WR-CALNAME:Graduate Nurse Midwifery Program
X-ORIGINAL-URL:https://gnmp.pmcv.com.au
X-WR-CALDESC:Events for Graduate Nurse Midwifery Program
REFRESH-INTERVAL;VALUE=DURATION:PT1H
X-Robots-Tag:noindex
X-PUBLISHED-TTL:PT1H
BEGIN:VTIMEZONE
TZID:Australia/Melbourne
BEGIN:STANDARD
TZOFFSETFROM:+1100
TZOFFSETTO:+1000
TZNAME:AEST
DTSTART:20240406T160000
END:STANDARD
BEGIN:DAYLIGHT
TZOFFSETFROM:+1000
TZOFFSETTO:+1100
TZNAME:AEDT
DTSTART:20241005T160000
END:DAYLIGHT
BEGIN:STANDARD
TZOFFSETFROM:+1100
TZOFFSETTO:+1000
TZNAME:AEST
DTSTART:20250405T160000
END:STANDARD
BEGIN:DAYLIGHT
TZOFFSETFROM:+1000
TZOFFSETTO:+1100
TZNAME:AEDT
DTSTART:20251004T160000
END:DAYLIGHT
BEGIN:STANDARD
TZOFFSETFROM:+1100
TZOFFSETTO:+1000
TZNAME:AEST
DTSTART:20260404T160000
END:STANDARD
BEGIN:DAYLIGHT
TZOFFSETFROM:+1000
TZOFFSETTO:+1100
TZNAME:AEDT
DTSTART:20261003T160000
END:DAYLIGHT
END:VTIMEZONE
BEGIN:VEVENT
DTSTART;TZID=Australia/Melbourne:20250521T160000
DTEND;TZID=Australia/Melbourne:20250604T170000
DTSTAMP:20260424T123732
CREATED:20250326T010437Z
LAST-MODIFIED:20250520T014411Z
UID:10000154-1747843200-1749056400@gnmp.pmcv.com.au
SUMMARY:St Vincent's Private Hospital Melbourne - Postponed
DESCRIPTION:
URL:https://gnmp.pmcv.com.au/event/st-vincents-private-hospital-melbourne/
CATEGORIES:HS Info Sessions - Virtual
END:VEVENT
BEGIN:VEVENT
DTSTART;TZID=Australia/Melbourne:20250527T093000
DTEND;TZID=Australia/Melbourne:20250527T113000
DTSTAMP:20260424T123732
CREATED:20250430T061643Z
LAST-MODIFIED:20250430T061643Z
UID:10000197-1748338200-1748345400@gnmp.pmcv.com.au
SUMMARY:Central Gippsland Health - Nursing & Midwifery Program
DESCRIPTION:CGHS Online 2026 Graduate Nursing & Midwifery Program Information Session \n  \nThis session will be held from 0930-1130 on Tuesday 27th May via Zoom – details to attend are below \n  \nTopic: CGHS Online 2026 Graduate Nursing & Midwifery Program Information Session  \nTime: May 27\, 2025 09:30 AM Canberra\, Melbourne\, Sydney \nJoin Zoom Meeting \nhttps://gippslandhealthalliance.zoom.us/j/84834926373?pwd=YVVaXvmZTjvG3EEZ7FxZpzvzdce2Uf.1  \n  \nMeeting ID: 848 3492 6373 \nPasscode: 701773
URL:https://gnmp.pmcv.com.au/event/central-gippsland-health-nursing-midwifery-program/
CATEGORIES:GNMP Events
END:VEVENT
BEGIN:VEVENT
DTSTART;TZID=Australia/Melbourne:20250527T163000
DTEND;TZID=Australia/Melbourne:20250527T180000
DTSTAMP:20260424T123732
CREATED:20240321T003113Z
LAST-MODIFIED:20250325T001501Z
UID:10000030-1748363400-1748368800@gnmp.pmcv.com.au
SUMMARY:Alfred Health
DESCRIPTION:Nursing Information Session \nTuesday June 3rd\, 4:30 PM – 6:00 PM F2F Venue: The Alfred\, Commercial Rd.\, Prahran\nInnovation and Education Hub\, The Alfred\, Commercial Road \nPlease RSVP to attend\, link on page \nSee website for more details.
URL:https://gnmp.pmcv.com.au/event/alfred-health/
CATEGORIES:HS Info Sessions - F2F
END:VEVENT
BEGIN:VEVENT
DTSTART;TZID=Australia/Melbourne:20250527T163000
DTEND;TZID=Australia/Melbourne:20250527T180000
DTSTAMP:20260424T123732
CREATED:20250326T011003Z
LAST-MODIFIED:20250401T040244Z
UID:10000158-1748363400-1748368800@gnmp.pmcv.com.au
SUMMARY:The Royal Children's Hospital
DESCRIPTION:These interactive sessions provide an opportunity to experience what our Graduate Nurse Programs are all about\, while connecting with current nursing staff and learning how our structured programs turn graduates into competent and confident professionals. \nPlaces in each session are strictly limited\, registrations available on our website: \nwww.rch.org.au/nursing-education/graduate-nurses/
URL:https://gnmp.pmcv.com.au/event/the-royal-childrens-hospital-3/2025-05-27/
LOCATION:Royal Children’s Hospital\, 50 Flemington Road\, Parkville\, Vic\, 3052\, Australia
CATEGORIES:HS Info Sessions - F2F
END:VEVENT
END:VCALENDAR