BEGIN:VCALENDAR
VERSION:2.0
PRODID:-//Graduate Nurse Midwifery Program - ECPv6.15.20//NONSGML v1.0//EN
CALSCALE:GREGORIAN
METHOD:PUBLISH
X-ORIGINAL-URL:https://gnmp.pmcv.com.au
X-WR-CALDESC:Events for Graduate Nurse Midwifery Program
REFRESH-INTERVAL;VALUE=DURATION:PT1H
X-Robots-Tag:noindex
X-PUBLISHED-TTL:PT1H
BEGIN:VTIMEZONE
TZID:Australia/Melbourne
BEGIN:STANDARD
TZOFFSETFROM:+1100
TZOFFSETTO:+1000
TZNAME:AEST
DTSTART:20240406T160000
END:STANDARD
BEGIN:DAYLIGHT
TZOFFSETFROM:+1000
TZOFFSETTO:+1100
TZNAME:AEDT
DTSTART:20241005T160000
END:DAYLIGHT
BEGIN:STANDARD
TZOFFSETFROM:+1100
TZOFFSETTO:+1000
TZNAME:AEST
DTSTART:20250405T160000
END:STANDARD
BEGIN:DAYLIGHT
TZOFFSETFROM:+1000
TZOFFSETTO:+1100
TZNAME:AEDT
DTSTART:20251004T160000
END:DAYLIGHT
BEGIN:STANDARD
TZOFFSETFROM:+1100
TZOFFSETTO:+1000
TZNAME:AEST
DTSTART:20260404T160000
END:STANDARD
BEGIN:DAYLIGHT
TZOFFSETFROM:+1000
TZOFFSETTO:+1100
TZNAME:AEDT
DTSTART:20261003T160000
END:DAYLIGHT
END:VTIMEZONE
BEGIN:VEVENT
DTSTART;TZID=Australia/Melbourne:20250521T160000
DTEND;TZID=Australia/Melbourne:20250604T170000
DTSTAMP:20260424T110710
CREATED:20250326T010437Z
LAST-MODIFIED:20250520T014411Z
UID:10000154-1747843200-1749056400@gnmp.pmcv.com.au
SUMMARY:St Vincent's Private Hospital Melbourne - Postponed
DESCRIPTION:
URL:https://gnmp.pmcv.com.au/event/st-vincents-private-hospital-melbourne/
CATEGORIES:HS Info Sessions - Virtual
END:VEVENT
BEGIN:VEVENT
DTSTART;TZID=Australia/Melbourne:20250529T140000
DTEND;TZID=Australia/Melbourne:20250529T160000
DTSTAMP:20260424T110710
CREATED:20250415T005042Z
LAST-MODIFIED:20250415T005634Z
UID:10000196-1748527200-1748534400@gnmp.pmcv.com.au
SUMMARY:Forensicare - Mental Health Nursing
DESCRIPTION:Forensicare Graduate Nurse Program 2026 \nPlease register via the form on our Website. Places are limited
URL:https://gnmp.pmcv.com.au/event/forensicare-graduate-nurse-program/
LOCATION:Forensicare\, Thomas Embling Hospital\, 201 Yarra Bend Rd\, Fairfield\, VIC\, 3078\, Australia
CATEGORIES:HS Info Sessions - F2F
END:VEVENT
BEGIN:VEVENT
DTSTART;TZID=Australia/Melbourne:20250529T153000
DTEND;TZID=Australia/Melbourne:20250529T190000
DTSTAMP:20260424T110710
CREATED:20250326T004529Z
LAST-MODIFIED:20250326T004530Z
UID:10000033-1748532600-1748545200@gnmp.pmcv.com.au
SUMMARY:Barwon Health
DESCRIPTION:HERB Lecture Theatre\, Kitchener House \nBarwon Health Mental Health\, Drugs and Alcohol Service Graduate Program and Barwon Health Nursing and Midwifery Program \nMHDAS Information session will commence at 3:30\, Nursing and Midwifery Program session will commence at 5pm. \n5th June and 24th June\, same details as above
URL:https://gnmp.pmcv.com.au/event/barwon-health-2/
LOCATION:HERB Lecture Theatre\, Kitchener House\, 285-299 Ryrie Street\, Geelong\, Victoria\, 3220\, Australia
CATEGORIES:HS Info Sessions - F2F
END:VEVENT
BEGIN:VEVENT
DTSTART;TZID=Australia/Melbourne:20250529T160000
DTEND;TZID=Australia/Melbourne:20250529T173000
DTSTAMP:20260424T110710
CREATED:20250514T220652Z
LAST-MODIFIED:20250514T220652Z
UID:10000199-1748534400-1748539800@gnmp.pmcv.com.au
SUMMARY:Holmesglen Private Hospital
DESCRIPTION:Email: graduatenurses@healthscope.com.au
URL:https://gnmp.pmcv.com.au/event/holmesglen-private-hospital-2/
CATEGORIES:HS Info Sessions - Virtual
END:VEVENT
BEGIN:VEVENT
DTSTART;TZID=Australia/Melbourne:20250529T163000
DTEND;TZID=Australia/Melbourne:20250529T180000
DTSTAMP:20260424T110710
CREATED:20250326T234528Z
LAST-MODIFIED:20250327T015413Z
UID:10000163-1748536200-1748541600@gnmp.pmcv.com.au
SUMMARY:Western Health - Nursing
DESCRIPTION:Graduate Nurse Program; Combined Nursing & Mental Health \nVisit Health Service website for further information \nAdditional Information Sessions: \nMay 29th 4:30PM – 6:00PM GNP Information Session Link available at the Western Health GNP webpage \nMay 30th 4:30PM – 6:00PM EN to RN Information Session Link available at the Western Health GNP Webpage
URL:https://gnmp.pmcv.com.au/event/western-health-nursing-2/2025-05-29/
CATEGORIES:HS Info Sessions - Virtual
END:VEVENT
END:VCALENDAR