BEGIN:VCALENDAR
VERSION:2.0
PRODID:-//Graduate Nurse Midwifery Program - ECPv6.15.20//NONSGML v1.0//EN
CALSCALE:GREGORIAN
METHOD:PUBLISH
X-WR-CALNAME:Graduate Nurse Midwifery Program
X-ORIGINAL-URL:https://gnmp.pmcv.com.au
X-WR-CALDESC:Events for Graduate Nurse Midwifery Program
REFRESH-INTERVAL;VALUE=DURATION:PT1H
X-Robots-Tag:noindex
X-PUBLISHED-TTL:PT1H
BEGIN:VTIMEZONE
TZID:Australia/Melbourne
BEGIN:STANDARD
TZOFFSETFROM:+1100
TZOFFSETTO:+1000
TZNAME:AEST
DTSTART:20250405T160000
END:STANDARD
BEGIN:DAYLIGHT
TZOFFSETFROM:+1000
TZOFFSETTO:+1100
TZNAME:AEDT
DTSTART:20251004T160000
END:DAYLIGHT
BEGIN:STANDARD
TZOFFSETFROM:+1100
TZOFFSETTO:+1000
TZNAME:AEST
DTSTART:20260404T160000
END:STANDARD
BEGIN:DAYLIGHT
TZOFFSETFROM:+1000
TZOFFSETTO:+1100
TZNAME:AEDT
DTSTART:20261003T160000
END:DAYLIGHT
BEGIN:STANDARD
TZOFFSETFROM:+1100
TZOFFSETTO:+1000
TZNAME:AEST
DTSTART:20270403T160000
END:STANDARD
BEGIN:DAYLIGHT
TZOFFSETFROM:+1000
TZOFFSETTO:+1100
TZNAME:AEDT
DTSTART:20271002T160000
END:DAYLIGHT
END:VTIMEZONE
BEGIN:VEVENT
DTSTART;TZID=Australia/Melbourne:20260519T110000
DTEND;TZID=Australia/Melbourne:20260519T130000
DTSTAMP:20260426T033531
CREATED:20260417T053047Z
LAST-MODIFIED:20260417T053047Z
UID:10000319-1779188400-1779195600@gnmp.pmcv.com.au
SUMMARY:South West Health Care
DESCRIPTION:
URL:https://gnmp.pmcv.com.au/event/south-west-health-care/
LOCATION:South West Healthcare\, Ryot Street\, Warrnambool\, Victoria\, 3280\, Australia
CATEGORIES:HS Info Sessions - F2F
END:VEVENT
BEGIN:VEVENT
DTSTART;TZID=Australia/Melbourne:20260519T110000
DTEND;TZID=Australia/Melbourne:20260519T130000
DTSTAMP:20260426T033531
CREATED:20260417T065618Z
LAST-MODIFIED:20260420T020856Z
UID:10000336-1779188400-1779195600@gnmp.pmcv.com.au
SUMMARY:South West Healthcare
DESCRIPTION:All Streams and Programs will be covered \nThis session will introduce some of our Key Staff including some of our education team\, overview South West Healthcare\, program and rotations options\, and site tour. \nHybrid- In Person Preferred with Virtual option available
URL:https://gnmp.pmcv.com.au/event/south-west-healthcare-2/
LOCATION:South West Healthcare\, Ryot Street\, Warrnambool\, Victoria\, 3280\, Australia
CATEGORIES:Hybrid F2F & Online
END:VEVENT
BEGIN:VEVENT
DTSTART;TZID=Australia/Melbourne:20260519T140000
DTEND;TZID=Australia/Melbourne:20260519T150000
DTSTAMP:20260426T033531
CREATED:20260417T034617Z
LAST-MODIFIED:20260417T035813Z
UID:10000286-1779199200-1779202800@gnmp.pmcv.com.au
SUMMARY:Bayside Health - Peninsula Care Group - Online
DESCRIPTION:Date: 28th April 2026 \nTime: 2:00 – 3:30pm \nFormat: Online \nBooking Link:  https://www.eventbrite.com/e/1983731296709?aff=oddtdtcreator \n  \nBayside Health – Peninsula 2027 Graduate Question & Answer Session \nDate: 19th May 2026 \nTime: 2:00 – 3:00pm \nFormat: Online \nBooking Link:  https://www.eventbrite.com/e/1987020826782?aff=oddtdtcreator
URL:https://gnmp.pmcv.com.au/event/bayside-health-peninsula-online/2026-05-19/
CATEGORIES:HS Info Sessions - Virtual
END:VEVENT
BEGIN:VEVENT
DTSTART;TZID=Australia/Melbourne:20260519T160000
DTEND;TZID=Australia/Melbourne:20260519T170000
DTSTAMP:20260426T033531
CREATED:20260413T020647Z
LAST-MODIFIED:20260413T020647Z
UID:10000242-1779206400-1779210000@gnmp.pmcv.com.au
SUMMARY:Kyabram District Health Service
DESCRIPTION:Thursday 14th May 4pm-5pm \nhttps://teams.microsoft.com/meet/44621636217640?p=0XYtvW7e7RXUTZ7WDT \nMeeting ID: 446 216 362 176 40 \nPasscode: oe6NL3qM \nTuesday 19th May 4pm-5pm\nhttps://teams.microsoft.com/meet/496588978557?p=W7r17AhYJsJK3OTY88 \nMeeting ID:\n496 588 978 557 \nPasscode:\n8K4Ao7Ru \nWednesday 27th May 5-6pm\nhttps://teams.microsoft.com/meet/47589231601702?p=cUAQz4IwkTBg2rxvXR \nMeeting ID:\n475 892 316 017 02 \nPasscode:\nKr6nL9Le
URL:https://gnmp.pmcv.com.au/event/kyabram-district-health-service-4/2026-05-19/
CATEGORIES:HS Info Sessions - Virtual
END:VEVENT
BEGIN:VEVENT
DTSTART;TZID=Australia/Melbourne:20260519T163000
DTEND;TZID=Australia/Melbourne:20260519T173000
DTSTAMP:20260426T033531
CREATED:20260417T052352Z
LAST-MODIFIED:20260417T052352Z
UID:10000313-1779208200-1779211800@gnmp.pmcv.com.au
SUMMARY:Western Health
DESCRIPTION:Mental Health Graduate Nurse Program and Combined Mental Health Graduate Nurse Program \nhttps://teams.microsoft.com/meet/48012829495521?p=r97gjDo7JjtTmJlYYk
URL:https://gnmp.pmcv.com.au/event/western-health-2/
CATEGORIES:HS Info Sessions - Virtual
END:VEVENT
BEGIN:VEVENT
DTSTART;TZID=Australia/Melbourne:20260519T170000
DTEND;TZID=Australia/Melbourne:20260519T190000
DTSTAMP:20260426T033531
CREATED:20260417T043113Z
LAST-MODIFIED:20260417T043444Z
UID:10000300-1779210000-1779217200@gnmp.pmcv.com.au
SUMMARY:Austin Health
DESCRIPTION:Austin Hospital John Lindell Lecture Theatre\n145 Studley Road\nHeidelberg\, VIC 3084\nhttps://www.eventbrite.com.au/o/28753558781 \nAlso…see separate listing event \nThursday\, 4 June 2026\n5-7pm\nGeneral & Mental Health\nIn person – John Lindell Theatre\, Austin Hospital
URL:https://gnmp.pmcv.com.au/event/austin-health-3/
LOCATION:Austin HeaLth\, 145 Studley Road\, Heidelberg\, Victoria\, Australia
CATEGORIES:HS Info Sessions - F2F
END:VEVENT
END:VCALENDAR