BEGIN:VCALENDAR
VERSION:2.0
PRODID:-//Graduate Nurse Midwifery Program - ECPv6.15.20//NONSGML v1.0//EN
CALSCALE:GREGORIAN
METHOD:PUBLISH
X-WR-CALNAME:Graduate Nurse Midwifery Program
X-ORIGINAL-URL:https://gnmp.pmcv.com.au
X-WR-CALDESC:Events for Graduate Nurse Midwifery Program
REFRESH-INTERVAL;VALUE=DURATION:PT1H
X-Robots-Tag:noindex
X-PUBLISHED-TTL:PT1H
BEGIN:VTIMEZONE
TZID:Australia/Melbourne
BEGIN:STANDARD
TZOFFSETFROM:+1100
TZOFFSETTO:+1000
TZNAME:AEST
DTSTART:20250405T160000
END:STANDARD
BEGIN:DAYLIGHT
TZOFFSETFROM:+1000
TZOFFSETTO:+1100
TZNAME:AEDT
DTSTART:20251004T160000
END:DAYLIGHT
BEGIN:STANDARD
TZOFFSETFROM:+1100
TZOFFSETTO:+1000
TZNAME:AEST
DTSTART:20260404T160000
END:STANDARD
BEGIN:DAYLIGHT
TZOFFSETFROM:+1000
TZOFFSETTO:+1100
TZNAME:AEDT
DTSTART:20261003T160000
END:DAYLIGHT
BEGIN:STANDARD
TZOFFSETFROM:+1100
TZOFFSETTO:+1000
TZNAME:AEST
DTSTART:20270403T160000
END:STANDARD
BEGIN:DAYLIGHT
TZOFFSETFROM:+1000
TZOFFSETTO:+1100
TZNAME:AEDT
DTSTART:20271002T160000
END:DAYLIGHT
END:VTIMEZONE
BEGIN:VEVENT
DTSTART;TZID=Australia/Melbourne:20260526T140000
DTEND;TZID=Australia/Melbourne:20260526T143000
DTSTAMP:20260426T071832
CREATED:20260417T045130Z
LAST-MODIFIED:20260417T045130Z
UID:10000305-1779804000-1779805800@gnmp.pmcv.com.au
SUMMARY:Rochester and Elmore Health Service
DESCRIPTION:2027 REDHS Graduate Registered Nurse Program \nAcute / Community/ Aged Care \nInformation Session Via TEAMS. please email education@redhs.com.au for TEAMS invite. \nhttps://teams.microsoft.com/meet/45908471160783?p=bugTA5us0JN4KytoNj
URL:https://gnmp.pmcv.com.au/event/rochester-and-elmore-health-service/
CATEGORIES:HS Info Sessions - Virtual
END:VEVENT
BEGIN:VEVENT
DTSTART;TZID=Australia/Melbourne:20260526T160000
DTEND;TZID=Australia/Melbourne:20260526T180000
DTSTAMP:20260426T071832
CREATED:20260417T053347Z
LAST-MODIFIED:20260417T053347Z
UID:10000320-1779811200-1779818400@gnmp.pmcv.com.au
SUMMARY:Bayside Health Regional Care Group (Gippsland Southern) - Online
DESCRIPTION:Nursing\, aged care\, midwifery and Leongatha and/or Korumburra \nhttps://www.trybooking.com/DLJYB
URL:https://gnmp.pmcv.com.au/event/bayside-health-regional-care-group-gippsland-southern-online/
CATEGORIES:HS Info Sessions - Virtual
LOCATION:
END:VEVENT
BEGIN:VEVENT
DTSTART;TZID=Australia/Melbourne:20260526T163000
DTEND;TZID=Australia/Melbourne:20260526T180000
DTSTAMP:20260426T071832
CREATED:20260417T003022Z
LAST-MODIFIED:20260417T034729Z
UID:10000263-1779813000-1779818400@gnmp.pmcv.com.au
SUMMARY:Bayside Health Alfred Care Group - F2F
DESCRIPTION:F2F session – please book at https://www.alfredhealth.org.au/careers/nursing/graduate-nurse-programs and scroll to the bottom of the page to RSVP \nTo be held at: Lecture Theatre\, Innovation and Education Hub\, The Alfred. \nMap It \nhttps://forms.office.com/Pages/ResponsePage.aspx?id=uY0c4qiKAUOWVwd6BBW98RHnKc-9SW1MkG-j7homYSZUQ1NQSlk2T1cxTDRBMkJCUk9RQjZMN0tPTy4u \n 
URL:https://gnmp.pmcv.com.au/event/bayside-health-alfred-f2f/2026-05-26/
LOCATION:The Alfred\, 55 Commercial Road\, Melbourne\, Victoria\, 3004\, Australia
END:VEVENT
BEGIN:VEVENT
DTSTART;TZID=Australia/Melbourne:20260526T163000
DTEND;TZID=Australia/Melbourne:20260526T180000
DTSTAMP:20260426T071832
CREATED:20260417T062058Z
LAST-MODIFIED:20260417T062058Z
UID:10000328-1779813000-1779818400@gnmp.pmcv.com.au
SUMMARY:Western Health
DESCRIPTION:GMP\, GNMP\, MGP and Bridging \nBooking info https://westernhealth.org.au/research-and-education/nursing-and-midwifery-graduate-programs/graduate-midwife-program \nAuditorium Level 1\, WCHRE Building\, Sunshine Campus\, 176 Furlong Rd\nSt Albans\, Victoria 3021\nAustralia \nIf you can’t attend\, we are also hosting another information evening Tuesday 26th May. \nDates: Wednesday 20 May 2026\, and Tuesday 26 May 2026. \nTime: 4.30 pm to 6 pm. If you would like to join a hospital tour\, please meet at 4 pm at Joan Kirner main reception\, Ground Floor Foyer. \nLocation: Auditorium Level 1\, WCHRE Building\, Western Health Sunshine Campus 176 Furlong Road St Albans VIC 3021 \n 
URL:https://gnmp.pmcv.com.au/event/western-health-3/2026-05-26/
CATEGORIES:HS Info Sessions - F2F
END:VEVENT
END:VCALENDAR