BEGIN:VCALENDAR
VERSION:2.0
PRODID:-//Graduate Nurse Midwifery Program - ECPv6.15.20//NONSGML v1.0//EN
CALSCALE:GREGORIAN
METHOD:PUBLISH
X-ORIGINAL-URL:https://gnmp.pmcv.com.au
X-WR-CALDESC:Events for Graduate Nurse Midwifery Program
REFRESH-INTERVAL;VALUE=DURATION:PT1H
X-Robots-Tag:noindex
X-PUBLISHED-TTL:PT1H
BEGIN:VTIMEZONE
TZID:Australia/Melbourne
BEGIN:STANDARD
TZOFFSETFROM:+1100
TZOFFSETTO:+1000
TZNAME:AEST
DTSTART:20240406T160000
END:STANDARD
BEGIN:DAYLIGHT
TZOFFSETFROM:+1000
TZOFFSETTO:+1100
TZNAME:AEDT
DTSTART:20241005T160000
END:DAYLIGHT
BEGIN:STANDARD
TZOFFSETFROM:+1100
TZOFFSETTO:+1000
TZNAME:AEST
DTSTART:20250405T160000
END:STANDARD
BEGIN:DAYLIGHT
TZOFFSETFROM:+1000
TZOFFSETTO:+1100
TZNAME:AEDT
DTSTART:20251004T160000
END:DAYLIGHT
BEGIN:STANDARD
TZOFFSETFROM:+1100
TZOFFSETTO:+1000
TZNAME:AEST
DTSTART:20260404T160000
END:STANDARD
BEGIN:DAYLIGHT
TZOFFSETFROM:+1000
TZOFFSETTO:+1100
TZNAME:AEDT
DTSTART:20261003T160000
END:DAYLIGHT
END:VTIMEZONE
BEGIN:VEVENT
DTSTART;TZID=Australia/Melbourne:20250417T100000
DTEND;TZID=Australia/Melbourne:20250417T110000
DTSTAMP:20260420T032501
CREATED:20250324T224940Z
LAST-MODIFIED:20250324T224940Z
UID:10000134-1744884000-1744887600@gnmp.pmcv.com.au
SUMMARY:Latrobe Regional Health - General Nursing
DESCRIPTION:General Nursing Program- F2F and zoom option available \nSessions will be roughly one hour. Hospital tour available upon request.
URL:https://gnmp.pmcv.com.au/event/latrobe-regional-health-general-nursing/2025-04-17/1/
LOCATION:Latrobe Regional Health\, CNR Princes Highway & Village Avenue\, Traralgon\, Vic\, 3844
CATEGORIES:HS Info Sessions - F2F
END:VEVENT
BEGIN:VEVENT
DTSTART;TZID=Australia/Melbourne:20250417T130000
DTEND;TZID=Australia/Melbourne:20250417T140000
DTSTAMP:20260420T032501
CREATED:20250324T225121Z
LAST-MODIFIED:20250324T225121Z
UID:10000136-1744894800-1744898400@gnmp.pmcv.com.au
SUMMARY:Latrobe Regional Health - Midwifery Program
DESCRIPTION:Midwifery Program- F2F and zoom option available \nSessions will be roughly one hour. Hospital tour available upon request.
URL:https://gnmp.pmcv.com.au/event/latrobe-regional-health-midwifery-program/
LOCATION:Latrobe Regional Health\, CNR Princes Highway & Village Avenue\, Traralgon\, Vic\, 3844
CATEGORIES:HS Info Sessions - F2F
END:VEVENT
BEGIN:VEVENT
DTSTART;TZID=Australia/Melbourne:20250417T153000
DTEND;TZID=Australia/Melbourne:20250417T163000
DTSTAMP:20260420T032501
CREATED:20250324T224940Z
LAST-MODIFIED:20250324T224940Z
UID:10000135-1744903800-1744907400@gnmp.pmcv.com.au
SUMMARY:Latrobe Regional Health - General Nursing
DESCRIPTION:General Nursing Program- F2F and zoom option available \nSessions will be roughly one hour. Hospital tour available upon request.
URL:https://gnmp.pmcv.com.au/event/latrobe-regional-health-general-nursing/2025-04-17/2/
LOCATION:Latrobe Regional Health\, CNR Princes Highway & Village Avenue\, Traralgon\, Vic\, 3844
CATEGORIES:HS Info Sessions - F2F
END:VEVENT
BEGIN:VEVENT
DTSTART;TZID=Australia/Melbourne:20250422T140000
DTEND;TZID=Australia/Melbourne:20250422T150000
DTSTAMP:20260420T032501
CREATED:20240305T214047Z
LAST-MODIFIED:20250325T001847Z
UID:10000002-1745330400-1745334000@gnmp.pmcv.com.au
SUMMARY:Goulburn Valley Health
DESCRIPTION:Face to face – Information Session \nGeneral\, Midwifery\, Double degree nursing/ midwifery\, Mental health \nLocation – Graham St Shepparton\, Vic 3630\, Australia \n 
URL:https://gnmp.pmcv.com.au/event/goulburn-valley-health-f2f/
LOCATION:GV Health\, Graham Street\, Shepparton\, Vic\, Australia
CATEGORIES:HS Info Sessions - F2F
ORGANIZER;CN="Goulburn Valley Health":MAILTO:https://www.gvhealth.org.au/careers/graduate-programs/graduate-nursing-program/
END:VEVENT
BEGIN:VEVENT
DTSTART;TZID=Australia/Melbourne:20250422T140000
DTEND;TZID=Australia/Melbourne:20250422T150000
DTSTAMP:20260420T032501
CREATED:20250404T030044Z
LAST-MODIFIED:20250404T031414Z
UID:10000191-1745330400-1745334000@gnmp.pmcv.com.au
SUMMARY:Goulburn Valley Area Mental Health and Wellbeing Service
DESCRIPTION:Elsie Jones Education Centre\, Goulburn Valley Health
URL:https://gnmp.pmcv.com.au/event/goulburn-valley-area-mental-health-and-wellbeing-service/
LOCATION:GV Health\, Graham Street\, Shepparton\, Vic\, Australia
CATEGORIES:HS Info Sessions - F2F
END:VEVENT
BEGIN:VEVENT
DTSTART;TZID=Australia/Melbourne:20250428T140000
DTEND;TZID=Australia/Melbourne:20250428T160000
DTSTAMP:20260420T032501
CREATED:20250320T013444Z
LAST-MODIFIED:20250320T013444Z
UID:10000107-1745848800-1745856000@gnmp.pmcv.com.au
SUMMARY:Peninsula Health
DESCRIPTION:
URL:https://gnmp.pmcv.com.au/event/peninsula-health-3/2025-04-28/
LOCATION:Vic
CATEGORIES:HS Info Sessions - F2F
END:VEVENT
BEGIN:VEVENT
DTSTART;TZID=Australia/Melbourne:20250428T160000
DTEND;TZID=Australia/Melbourne:20250428T170000
DTSTAMP:20260420T032501
CREATED:20250327T041719Z
LAST-MODIFIED:20250327T041719Z
UID:10000165-1745856000-1745859600@gnmp.pmcv.com.au
SUMMARY:Austin Health - All streams
DESCRIPTION:All Streams- General\, Mental Health & Combined
URL:https://gnmp.pmcv.com.au/event/austin-health-all-streams/
LOCATION:Austin HeaLth\, 145 Studley Road\, Heidelberg\, Victoria\, Australia
CATEGORIES:HS Info Sessions - F2F
END:VEVENT
BEGIN:VEVENT
DTSTART;TZID=Australia/Melbourne:20250429T170000
DTEND;TZID=Australia/Melbourne:20250429T183000
DTSTAMP:20260420T032501
CREATED:20250403T021140Z
LAST-MODIFIED:20250403T021140Z
UID:10000188-1745946000-1745951400@gnmp.pmcv.com.au
SUMMARY:The Royal Melbourne Hospital - Various programs
DESCRIPTION:General Nursing\, First Nations and Rotational with Goulburn Valley Health programs
URL:https://gnmp.pmcv.com.au/event/the-royal-melbourne-hospital-various-programs/
LOCATION:Northern Health\, 185 Cooper Street\, Epping\, Victoria\, 3076\, Australia
CATEGORIES:HS Info Sessions - F2F
END:VEVENT
BEGIN:VEVENT
DTSTART;TZID=Australia/Melbourne:20250430T093000
DTEND;TZID=Australia/Melbourne:20250430T110000
DTSTAMP:20260420T032501
CREATED:20250325T025049Z
LAST-MODIFIED:20250325T033718Z
UID:10000143-1746005400-1746010800@gnmp.pmcv.com.au
SUMMARY:Central Gippsland Health
DESCRIPTION:Information Session \nFace to Face event \nLocation – Central Gippsland Health\, Sale Hospital (Lecture Hall)\, Guthridge Parade\, Sale 3850\, Australia \nGeneral Nursing Stream\, Midwifery (Single Entry)\, Midwifery Double Degree
URL:https://gnmp.pmcv.com.au/event/central-gippsland-health/
LOCATION:Central Gippsland Health\, 155 Guthridge Parade\, Sale\, VIC\, 3850\, Australia
CATEGORIES:HS Info Sessions - F2F
END:VEVENT
BEGIN:VEVENT
DTSTART;TZID=Australia/Melbourne:20250430T173000
DTEND;TZID=Australia/Melbourne:20250430T183000
DTSTAMP:20260420T032501
CREATED:20250402T223625Z
LAST-MODIFIED:20250402T223824Z
UID:10000187-1746034200-1746037800@gnmp.pmcv.com.au
SUMMARY:The Royal Melbourne Hospital - Orygen Specialist Program
DESCRIPTION:Register your attendance via https://forms.office.com/Pages/ResponsePage.aspx?id=_BUzU5Dr2kCx3ER5UBsYe1J0bfctlIxAp_aUYIvZtstURUFER0xUQzFXODFYRVBEWlpXRjhNNDlNQi4u \n 
URL:https://gnmp.pmcv.com.au/event/the-royal-melbourne-hospital-orygen-specialist-program/
LOCATION:Vic
CATEGORIES:HS Info Sessions - F2F
END:VEVENT
END:VCALENDAR