BEGIN:VCALENDAR
VERSION:2.0
PRODID:-//Graduate Nurse Midwifery Program - ECPv6.15.20//NONSGML v1.0//EN
CALSCALE:GREGORIAN
METHOD:PUBLISH
X-WR-CALNAME:Graduate Nurse Midwifery Program
X-ORIGINAL-URL:https://gnmp.pmcv.com.au
X-WR-CALDESC:Events for Graduate Nurse Midwifery Program
REFRESH-INTERVAL;VALUE=DURATION:PT1H
X-Robots-Tag:noindex
X-PUBLISHED-TTL:PT1H
BEGIN:VTIMEZONE
TZID:Australia/Melbourne
BEGIN:STANDARD
TZOFFSETFROM:+1100
TZOFFSETTO:+1000
TZNAME:AEST
DTSTART:20230401T160000
END:STANDARD
BEGIN:DAYLIGHT
TZOFFSETFROM:+1000
TZOFFSETTO:+1100
TZNAME:AEDT
DTSTART:20230930T160000
END:DAYLIGHT
BEGIN:STANDARD
TZOFFSETFROM:+1100
TZOFFSETTO:+1000
TZNAME:AEST
DTSTART:20240406T160000
END:STANDARD
BEGIN:DAYLIGHT
TZOFFSETFROM:+1000
TZOFFSETTO:+1100
TZNAME:AEDT
DTSTART:20241005T160000
END:DAYLIGHT
BEGIN:STANDARD
TZOFFSETFROM:+1100
TZOFFSETTO:+1000
TZNAME:AEST
DTSTART:20250405T160000
END:STANDARD
BEGIN:DAYLIGHT
TZOFFSETFROM:+1000
TZOFFSETTO:+1100
TZNAME:AEDT
DTSTART:20251004T160000
END:DAYLIGHT
END:VTIMEZONE
BEGIN:VEVENT
DTSTART;TZID=Australia/Melbourne:20240430T100000
DTEND;TZID=Australia/Melbourne:20240430T120000
DTSTAMP:20260421T060511
CREATED:20240321T011437Z
LAST-MODIFIED:20240321T012027Z
UID:10000037-1714471200-1714478400@gnmp.pmcv.com.au
SUMMARY:Latrobe Regional Health
DESCRIPTION:Book via https://www.trybooking.com/CPWSG \nLatrobe Regional Hospital Auditorium
URL:https://gnmp.pmcv.com.au/event/latrobe-regional-health/2024-04-30/
LOCATION:Latrobe Regional Health\, CNR Princes Highway & Village Avenue\, Traralgon\, Vic\, 3844
CATEGORIES:HS Info Sessions - F2F
END:VEVENT
BEGIN:VEVENT
DTSTART;TZID=Australia/Melbourne:20240430T170000
DTEND;TZID=Australia/Melbourne:20240430T190000
DTSTAMP:20260421T060511
CREATED:20240326T212604Z
LAST-MODIFIED:20240326T212604Z
UID:10000068-1714496400-1714503600@gnmp.pmcv.com.au
SUMMARY:Austin Health
DESCRIPTION:All sessions will include information about all streams\, including the Mental Health and Perioperative Streams. \nSee Health Service website for further details.
URL:https://gnmp.pmcv.com.au/event/austin-health/2024-04-30/
LOCATION:Austin HeaLth\, 145 Studley Road\, Heidelberg\, Victoria\, Australia
CATEGORIES:HS Info Sessions - F2F
END:VEVENT
END:VCALENDAR