BEGIN:VCALENDAR
VERSION:2.0
PRODID:-//Graduate Nurse Midwifery Program - ECPv6.15.20//NONSGML v1.0//EN
CALSCALE:GREGORIAN
METHOD:PUBLISH
X-ORIGINAL-URL:https://gnmp.pmcv.com.au
X-WR-CALDESC:Events for Graduate Nurse Midwifery Program
REFRESH-INTERVAL;VALUE=DURATION:PT1H
X-Robots-Tag:noindex
X-PUBLISHED-TTL:PT1H
BEGIN:VTIMEZONE
TZID:Australia/Melbourne
BEGIN:STANDARD
TZOFFSETFROM:+1100
TZOFFSETTO:+1000
TZNAME:AEST
DTSTART:20240406T160000
END:STANDARD
BEGIN:DAYLIGHT
TZOFFSETFROM:+1000
TZOFFSETTO:+1100
TZNAME:AEDT
DTSTART:20241005T160000
END:DAYLIGHT
BEGIN:STANDARD
TZOFFSETFROM:+1100
TZOFFSETTO:+1000
TZNAME:AEST
DTSTART:20250405T160000
END:STANDARD
BEGIN:DAYLIGHT
TZOFFSETFROM:+1000
TZOFFSETTO:+1100
TZNAME:AEDT
DTSTART:20251004T160000
END:DAYLIGHT
BEGIN:STANDARD
TZOFFSETFROM:+1100
TZOFFSETTO:+1000
TZNAME:AEST
DTSTART:20260404T160000
END:STANDARD
BEGIN:DAYLIGHT
TZOFFSETFROM:+1000
TZOFFSETTO:+1100
TZNAME:AEDT
DTSTART:20261003T160000
END:DAYLIGHT
END:VTIMEZONE
BEGIN:VEVENT
DTSTART;TZID=Australia/Melbourne:20250521T160000
DTEND;TZID=Australia/Melbourne:20250604T170000
DTSTAMP:20260421T045608
CREATED:20250326T010437Z
LAST-MODIFIED:20250520T014411Z
UID:10000154-1747843200-1749056400@gnmp.pmcv.com.au
SUMMARY:St Vincent's Private Hospital Melbourne - Postponed
DESCRIPTION:
URL:https://gnmp.pmcv.com.au/event/st-vincents-private-hospital-melbourne/
CATEGORIES:HS Info Sessions - Virtual
END:VEVENT
BEGIN:VEVENT
DTSTART;TZID=Australia/Melbourne:20250602T150000
DTEND;TZID=Australia/Melbourne:20250602T160000
DTSTAMP:20260421T045608
CREATED:20250522T225415Z
LAST-MODIFIED:20250522T225415Z
UID:10000202-1748876400-1748880000@gnmp.pmcv.com.au
SUMMARY:West Wimmera Health Service
DESCRIPTION:Please feel free to reach out if you have any questions or would like some further information about West Wimmera health Service’s Graduate Nurse Program. \nBrooke.saffron@wwhs.net.au \n________________________________________________________________________________ \nMicrosoft Teams Need help? \nJoin the meeting now \nMeeting ID: 436 349 032 477 4 \nPasscode: gR3rm7rX
URL:https://gnmp.pmcv.com.au/event/west-wimmera-health-service-2/
CATEGORIES:HS Info Sessions - Virtual
END:VEVENT
BEGIN:VEVENT
DTSTART;TZID=Australia/Melbourne:20250603T103000
DTEND;TZID=Australia/Melbourne:20250603T113000
DTSTAMP:20260421T045608
CREATED:20250324T051414Z
LAST-MODIFIED:20250324T051414Z
UID:10000126-1748946600-1748950200@gnmp.pmcv.com.au
SUMMARY:Kyabram District Health Service
DESCRIPTION:
URL:https://gnmp.pmcv.com.au/event/kyabram-district-health-service-3/2025-06-03/
CATEGORIES:HS Info Sessions - Virtual
END:VEVENT
BEGIN:VEVENT
DTSTART;TZID=Australia/Melbourne:20250603T153000
DTEND;TZID=Australia/Melbourne:20250603T163000
DTSTAMP:20260421T045608
CREATED:20250324T011149Z
LAST-MODIFIED:20250402T222139Z
UID:10000117-1748964600-1748968200@gnmp.pmcv.com.au
SUMMARY:Eastern Health
DESCRIPTION:All 6 programs covered – General Nursing\, Mental Health\, Mental Health and Nursing\, Midwifery\, Midwifery and Nursing\, Collaborative pathway with Alexandra District Health rural/metro
URL:https://gnmp.pmcv.com.au/event/eastern-health-2/2025-06-03/
CATEGORIES:HS Info Sessions - Virtual
END:VEVENT
BEGIN:VEVENT
DTSTART;TZID=Australia/Melbourne:20250603T160000
DTEND;TZID=Australia/Melbourne:20250603T180000
DTSTAMP:20260421T045608
CREATED:20250325T051829Z
LAST-MODIFIED:20250325T052600Z
UID:10000150-1748966400-1748973600@gnmp.pmcv.com.au
SUMMARY:Gippsland Southern Health Service
DESCRIPTION:Virtual Information Session – 2026 GNMP
URL:https://gnmp.pmcv.com.au/event/gippsland-southern-health-service/
CATEGORIES:HS Info Sessions - Virtual
END:VEVENT
BEGIN:VEVENT
DTSTART;TZID=Australia/Melbourne:20250604T110000
DTEND;TZID=Australia/Melbourne:20250604T120000
DTSTAMP:20260421T045608
CREATED:20250402T222858Z
LAST-MODIFIED:20250402T222858Z
UID:10000184-1749034800-1749038400@gnmp.pmcv.com.au
SUMMARY:Northern Health
DESCRIPTION:All programs (except NH Mental Health & Kilmore) \nOnline via Microsoft Teams
URL:https://gnmp.pmcv.com.au/event/northern-health/2025-06-04/
CATEGORIES:HS Info Sessions - Virtual
END:VEVENT
BEGIN:VEVENT
DTSTART;TZID=Australia/Melbourne:20250604T173000
DTEND;TZID=Australia/Melbourne:20250604T183000
DTSTAMP:20260421T045608
CREATED:20250519T010939Z
LAST-MODIFIED:20250519T010952Z
UID:10000200-1749058200-1749061800@gnmp.pmcv.com.au
SUMMARY:Portland District Health
DESCRIPTION:Zoom Information Session \nView Health Service website for more details. \nRegistered Nurse and Registered Midwife programs
URL:https://gnmp.pmcv.com.au/event/portland-district-health-copy/
CATEGORIES:HS Info Sessions - Virtual
END:VEVENT
BEGIN:VEVENT
DTSTART;TZID=Australia/Melbourne:20250605T100000
DTEND;TZID=Australia/Melbourne:20250605T110000
DTSTAMP:20260421T045608
CREATED:20250326T225224Z
LAST-MODIFIED:20250326T225224Z
UID:10000159-1749117600-1749121200@gnmp.pmcv.com.au
SUMMARY:Maryborough District Health Service
DESCRIPTION:Aged Care and Acute Nursing Graduate program
URL:https://gnmp.pmcv.com.au/event/maryborough-district-health-service/
LOCATION:LEAD – Learning Education and Development Centre\, 75-87 Clarendon Street\, Maryborough\, Vic\, 3465
CATEGORIES:HS Info Sessions - F2F,HS Info Sessions - Virtual
END:VEVENT
BEGIN:VEVENT
DTSTART;TZID=Australia/Melbourne:20250609T220000
DTEND;TZID=Australia/Melbourne:20250610T000000
DTSTAMP:20260421T045608
CREATED:20250324T040020Z
LAST-MODIFIED:20250331T052854Z
UID:10000180-1749506400-1749513600@gnmp.pmcv.com.au
SUMMARY:St Vincent's Hospital - Mental Health
DESCRIPTION:Sign up here: St Vincent’s Mental Health Information Evenings
URL:https://gnmp.pmcv.com.au/event/st-vincents-hospital-mental-health/2025-06-09/
CATEGORIES:HS Info Sessions - Virtual
END:VEVENT
BEGIN:VEVENT
DTSTART;TZID=Australia/Melbourne:20250616T140000
DTEND;TZID=Australia/Melbourne:20250616T150000
DTSTAMP:20260421T045608
CREATED:20250522T225530Z
LAST-MODIFIED:20250522T225530Z
UID:10000203-1750082400-1750086000@gnmp.pmcv.com.au
SUMMARY:West Wimmera Health Service
DESCRIPTION:Please feel free to reach out if you would like some further information regarding West Wimmera Health Service’s Graduate Nurse Program. \nBrooke.saffron@wwhs.net.au \n________________________________________________________________________________ \nMicrosoft Teams Need help? \nJoin the meeting now \nMeeting ID: 414 840 391 922 4 \nPasscode: UC6qu9SS
URL:https://gnmp.pmcv.com.au/event/west-wimmera-health-service-3/
CATEGORIES:HS Info Sessions - Virtual
END:VEVENT
BEGIN:VEVENT
DTSTART;TZID=Australia/Melbourne:20250617T110000
DTEND;TZID=Australia/Melbourne:20250617T120000
DTSTAMP:20260421T045608
CREATED:20250402T222858Z
LAST-MODIFIED:20250402T222858Z
UID:10000185-1750158000-1750161600@gnmp.pmcv.com.au
SUMMARY:Northern Health
DESCRIPTION:All programs (except NH Mental Health & Kilmore) \nOnline via Microsoft Teams
URL:https://gnmp.pmcv.com.au/event/northern-health/2025-06-17/
CATEGORIES:HS Info Sessions - Virtual
END:VEVENT
BEGIN:VEVENT
DTSTART;TZID=Australia/Melbourne:20250623T163000
DTEND;TZID=Australia/Melbourne:20250623T180000
DTSTAMP:20260421T045608
CREATED:20250326T000641Z
LAST-MODIFIED:20250326T000641Z
UID:10000152-1750696200-1750701600@gnmp.pmcv.com.au
SUMMARY:Northern Health - Mental Health
DESCRIPTION:More information can be found on the Northern Health website.
URL:https://gnmp.pmcv.com.au/event/northern-health-mental-health/2025-06-23/
CATEGORIES:HS Info Sessions - Virtual
END:VEVENT
END:VCALENDAR