BEGIN:VCALENDAR
VERSION:2.0
PRODID:-//Graduate Nurse Midwifery Program - ECPv6.15.20//NONSGML v1.0//EN
CALSCALE:GREGORIAN
METHOD:PUBLISH
X-WR-CALNAME:Graduate Nurse Midwifery Program
X-ORIGINAL-URL:https://gnmp.pmcv.com.au
X-WR-CALDESC:Events for Graduate Nurse Midwifery Program
REFRESH-INTERVAL;VALUE=DURATION:PT1H
X-Robots-Tag:noindex
X-PUBLISHED-TTL:PT1H
BEGIN:VTIMEZONE
TZID:Australia/Melbourne
BEGIN:STANDARD
TZOFFSETFROM:+1100
TZOFFSETTO:+1000
TZNAME:AEST
DTSTART:20250405T160000
END:STANDARD
BEGIN:DAYLIGHT
TZOFFSETFROM:+1000
TZOFFSETTO:+1100
TZNAME:AEDT
DTSTART:20251004T160000
END:DAYLIGHT
BEGIN:STANDARD
TZOFFSETFROM:+1100
TZOFFSETTO:+1000
TZNAME:AEST
DTSTART:20260404T160000
END:STANDARD
BEGIN:DAYLIGHT
TZOFFSETFROM:+1000
TZOFFSETTO:+1100
TZNAME:AEDT
DTSTART:20261003T160000
END:DAYLIGHT
BEGIN:STANDARD
TZOFFSETFROM:+1100
TZOFFSETTO:+1000
TZNAME:AEST
DTSTART:20270403T160000
END:STANDARD
BEGIN:DAYLIGHT
TZOFFSETFROM:+1000
TZOFFSETTO:+1100
TZNAME:AEDT
DTSTART:20271002T160000
END:DAYLIGHT
END:VTIMEZONE
BEGIN:VEVENT
DTSTART;TZID=Australia/Melbourne:20260417T150000
DTEND;TZID=Australia/Melbourne:20260417T160000
DTSTAMP:20260421T035844
CREATED:20260417T051607Z
LAST-MODIFIED:20260417T051607Z
UID:10000311-1776438000-1776441600@gnmp.pmcv.com.au
SUMMARY:St Vincent's Public Health Service Mental Health
DESCRIPTION:Mental Health\, Blended MH/ED \nPlease RSVP and information will be sent to you closer to the date \nhttps://forms.office.com/r/ZKVtiVNiRW \n  \n: https://teams.microsoft.com/meet/43108567398022?p=lcqW4OPbyXdUlnyUuT
URL:https://gnmp.pmcv.com.au/event/st-vincents-public-health-service-mental-health/
CATEGORIES:HS Info Sessions - Virtual
END:VEVENT
BEGIN:VEVENT
DTSTART;TZID=Australia/Melbourne:20260417T150000
DTEND;TZID=Australia/Melbourne:20260417T170000
DTSTAMP:20260421T035844
CREATED:20260417T051129Z
LAST-MODIFIED:20260417T051129Z
UID:10000310-1776438000-1776445200@gnmp.pmcv.com.au
SUMMARY:St Vincent's Public Mental Health
DESCRIPTION:Mental Health\, Blended MH/ED \nPlease RSVP and information will be sent to you closer to the date \nhttps://forms.office.com/r/ZKVtiVNiRW
URL:https://gnmp.pmcv.com.au/event/st-vincents-public-mental-health/
CATEGORIES:HS Info Sessions - Virtual
END:VEVENT
END:VCALENDAR