BEGIN:VCALENDAR
VERSION:2.0
PRODID:-//Graduate Nurse Midwifery Program - ECPv6.15.20//NONSGML v1.0//EN
CALSCALE:GREGORIAN
METHOD:PUBLISH
X-ORIGINAL-URL:https://gnmp.pmcv.com.au
X-WR-CALDESC:Events for Graduate Nurse Midwifery Program
REFRESH-INTERVAL;VALUE=DURATION:PT1H
X-Robots-Tag:noindex
X-PUBLISHED-TTL:PT1H
BEGIN:VTIMEZONE
TZID:Australia/Melbourne
BEGIN:STANDARD
TZOFFSETFROM:+1100
TZOFFSETTO:+1000
TZNAME:AEST
DTSTART:20250405T160000
END:STANDARD
BEGIN:DAYLIGHT
TZOFFSETFROM:+1000
TZOFFSETTO:+1100
TZNAME:AEDT
DTSTART:20251004T160000
END:DAYLIGHT
BEGIN:STANDARD
TZOFFSETFROM:+1100
TZOFFSETTO:+1000
TZNAME:AEST
DTSTART:20260404T160000
END:STANDARD
BEGIN:DAYLIGHT
TZOFFSETFROM:+1000
TZOFFSETTO:+1100
TZNAME:AEDT
DTSTART:20261003T160000
END:DAYLIGHT
BEGIN:STANDARD
TZOFFSETFROM:+1100
TZOFFSETTO:+1000
TZNAME:AEST
DTSTART:20270403T160000
END:STANDARD
BEGIN:DAYLIGHT
TZOFFSETFROM:+1000
TZOFFSETTO:+1100
TZNAME:AEDT
DTSTART:20271002T160000
END:DAYLIGHT
END:VTIMEZONE
BEGIN:VEVENT
DTSTART;TZID=Australia/Melbourne:20260515T110000
DTEND;TZID=Australia/Melbourne:20260515T120000
DTSTAMP:20260420T212649
CREATED:20260417T045815Z
LAST-MODIFIED:20260417T045815Z
UID:10000306-1778842800-1778846400@gnmp.pmcv.com.au
SUMMARY:Swan Hill District Health - Online
DESCRIPTION:Outline of the graduate nurse program \n19 May 2026 1000hrs via Zoom\n21 May 2026 1300hrs Face to face in lecture room 62 McCrae Street Swan Hill \nhttps://us06web.zoom.us/j/85667020791?pwd=F98cB6iHnlBRkUP0BX7cq8J9R3q7f9.1
URL:https://gnmp.pmcv.com.au/event/swan-hill-district-health-online/
CATEGORIES:HS Info Sessions - Virtual
END:VEVENT
END:VCALENDAR