BEGIN:VCALENDAR
VERSION:2.0
PRODID:-//Graduate Nurse Midwifery Program - ECPv6.15.20//NONSGML v1.0//EN
CALSCALE:GREGORIAN
METHOD:PUBLISH
X-WR-CALNAME:Graduate Nurse Midwifery Program
X-ORIGINAL-URL:https://gnmp.pmcv.com.au
X-WR-CALDESC:Events for Graduate Nurse Midwifery Program
REFRESH-INTERVAL;VALUE=DURATION:PT1H
X-Robots-Tag:noindex
X-PUBLISHED-TTL:PT1H
BEGIN:VTIMEZONE
TZID:Australia/Melbourne
BEGIN:STANDARD
TZOFFSETFROM:+1100
TZOFFSETTO:+1000
TZNAME:AEST
DTSTART:20250405T160000
END:STANDARD
BEGIN:DAYLIGHT
TZOFFSETFROM:+1000
TZOFFSETTO:+1100
TZNAME:AEDT
DTSTART:20251004T160000
END:DAYLIGHT
BEGIN:STANDARD
TZOFFSETFROM:+1100
TZOFFSETTO:+1000
TZNAME:AEST
DTSTART:20260404T160000
END:STANDARD
BEGIN:DAYLIGHT
TZOFFSETFROM:+1000
TZOFFSETTO:+1100
TZNAME:AEDT
DTSTART:20261003T160000
END:DAYLIGHT
BEGIN:STANDARD
TZOFFSETFROM:+1100
TZOFFSETTO:+1000
TZNAME:AEST
DTSTART:20270403T160000
END:STANDARD
BEGIN:DAYLIGHT
TZOFFSETFROM:+1000
TZOFFSETTO:+1100
TZNAME:AEDT
DTSTART:20271002T160000
END:DAYLIGHT
END:VTIMEZONE
BEGIN:VEVENT
DTSTART;TZID=Australia/Melbourne:20260521T100000
DTEND;TZID=Australia/Melbourne:20260521T120000
DTSTAMP:20260423T050238
CREATED:20260417T043757Z
LAST-MODIFIED:20260417T043757Z
UID:10000301-1779357600-1779364800@gnmp.pmcv.com.au
SUMMARY:Austin Health - Mental Health Online
DESCRIPTION:Thursday\, 21 May 2026\n10 am – 12pm\nMental Health\nOnline \nWednesday\, 27 May 2026\n5-7pm\nMental Health\nOnline \nWednesday\, 3 June 2026\n10 am – 12pm\nGeneral & Mental Health\nOnline
URL:https://gnmp.pmcv.com.au/event/austin-health-mental-health-online/2026-05-21/
CATEGORIES:HS Info Sessions - Virtual
END:VEVENT
BEGIN:VEVENT
DTSTART;TZID=Australia/Melbourne:20260521T153000
DTEND;TZID=Australia/Melbourne:20260521T163000
DTSTAMP:20260423T050238
CREATED:20260413T011300Z
LAST-MODIFIED:20260413T011324Z
UID:10000229-1779377400-1779381000@gnmp.pmcv.com.au
SUMMARY:The Royal Victorian Eye and Ear Hospital - Online
DESCRIPTION:Graduate Nursing Program Specific. Hospital Tour\, Application and Interview Processes\, Key dates for 2027 \nMonday 18th May\, 2026: 1030-1130am Online (Registration and link available via our website)\nThursday 21st May\, 2026: 3.30-4.30pm Online (Registration and link available via our website)
URL:https://gnmp.pmcv.com.au/event/the-royal-victorian-eye-and-ear-hospital/2026-05-21/
CATEGORIES:HS Info Sessions - Virtual
END:VEVENT
BEGIN:VEVENT
DTSTART;TZID=Australia/Melbourne:20260521T163000
DTEND;TZID=Australia/Melbourne:20260521T173000
DTSTAMP:20260423T050238
CREATED:20260412T224952Z
LAST-MODIFIED:20260412T225421Z
UID:10000222-1779381000-1779384600@gnmp.pmcv.com.au
SUMMARY:Western Health - Nursing
DESCRIPTION:Graduate Nurse Program\, EN to RN Graduate Programs \n28th May 4.30-5.30 online\n29th May 4.30-5.30 Online EN to RN Graduate Program \nVisit Health Service website for further information
URL:https://gnmp.pmcv.com.au/event/western-health-nursing-4/2026-05-21/
CATEGORIES:HS Info Sessions - Virtual
END:VEVENT
END:VCALENDAR