BEGIN:VCALENDAR
VERSION:2.0
PRODID:-//Graduate Nurse Midwifery Program - ECPv6.15.20//NONSGML v1.0//EN
CALSCALE:GREGORIAN
METHOD:PUBLISH
X-ORIGINAL-URL:https://gnmp.pmcv.com.au
X-WR-CALDESC:Events for Graduate Nurse Midwifery Program
REFRESH-INTERVAL;VALUE=DURATION:PT1H
X-Robots-Tag:noindex
X-PUBLISHED-TTL:PT1H
BEGIN:VTIMEZONE
TZID:Australia/Melbourne
BEGIN:STANDARD
TZOFFSETFROM:+1100
TZOFFSETTO:+1000
TZNAME:AEST
DTSTART:20250405T160000
END:STANDARD
BEGIN:DAYLIGHT
TZOFFSETFROM:+1000
TZOFFSETTO:+1100
TZNAME:AEDT
DTSTART:20251004T160000
END:DAYLIGHT
BEGIN:STANDARD
TZOFFSETFROM:+1100
TZOFFSETTO:+1000
TZNAME:AEST
DTSTART:20260404T160000
END:STANDARD
BEGIN:DAYLIGHT
TZOFFSETFROM:+1000
TZOFFSETTO:+1100
TZNAME:AEDT
DTSTART:20261003T160000
END:DAYLIGHT
BEGIN:STANDARD
TZOFFSETFROM:+1100
TZOFFSETTO:+1000
TZNAME:AEST
DTSTART:20270403T160000
END:STANDARD
BEGIN:DAYLIGHT
TZOFFSETFROM:+1000
TZOFFSETTO:+1100
TZNAME:AEDT
DTSTART:20271002T160000
END:DAYLIGHT
END:VTIMEZONE
BEGIN:VEVENT
DTSTART;TZID=Australia/Melbourne:20260609T110000
DTEND;TZID=Australia/Melbourne:20260609T120000
DTSTAMP:20260424T001249
CREATED:20260417T061504Z
LAST-MODIFIED:20260417T061504Z
UID:10000326-1781002800-1781006400@gnmp.pmcv.com.au
SUMMARY:Northern Health - Online
DESCRIPTION:Online Information sessions (via MS Teams) \nNo booking required\nJoin here: https://teams.microsoft.com/meet/45208427449234?p=dhOl7rHa7Gb6ggprhY \nSession #1: Thursday 4 June\, 11.00-12.00\nSession #2: Tuesday 9 June\, 11.00-12.00
URL:https://gnmp.pmcv.com.au/event/northern-health-online/2026-06-09/
CATEGORIES:HS Info Sessions - Virtual
END:VEVENT
BEGIN:VEVENT
DTSTART;TZID=Australia/Melbourne:20260610T160000
DTEND;TZID=Australia/Melbourne:20260610T163000
DTSTAMP:20260424T001249
CREATED:20260417T052654Z
LAST-MODIFIED:20260421T025059Z
UID:10000317-1781107200-1781109000@gnmp.pmcv.com.au
SUMMARY:West Wimmera Health Service
DESCRIPTION:Acute Nursing Stream=Acute Care/Urgent Care/Theatre/Community Nursing and Aged Care and Aged Care Stream \nThe location of West Wimmera Health Service\, Accommodation options\, Available support\, Clinical and Professional Development opportunities and General Expectations. \nhttps://teams.microsoft.com/meet/49283158595399?p=jhQi1lek4o5lUOJdzt \n27/5/2026 1600-1630hrs Online\n3/6/2026 1600-1630hrs Online\n10/6/2026 1600-1630hrs Online
URL:https://gnmp.pmcv.com.au/event/west-wimmera-health-service-4/2026-06-10/
CATEGORIES:HS Info Sessions - Virtual
END:VEVENT
BEGIN:VEVENT
DTSTART;TZID=Australia/Melbourne:20260611T170000
DTEND;TZID=Australia/Melbourne:20260611T183000
DTSTAMP:20260424T001249
CREATED:20260421T232910Z
LAST-MODIFIED:20260422T033509Z
UID:10000351-1781197200-1781202600@gnmp.pmcv.com.au
SUMMARY:The Royal Melbourne Hospital
DESCRIPTION:General Nursing and Mental Health Information Night \nSee Health Service website for log in details.
URL:https://gnmp.pmcv.com.au/event/the-royal-melbourne-hospital/
CATEGORIES:HS Info Sessions - Virtual
END:VEVENT
BEGIN:VEVENT
DTSTART;TZID=Australia/Melbourne:20260615T100000
DTEND;TZID=Australia/Melbourne:20260615T110000
DTSTAMP:20260424T001249
CREATED:20260417T042647Z
LAST-MODIFIED:20260417T042647Z
UID:10000297-1781517600-1781521200@gnmp.pmcv.com.au
SUMMARY:St Vincents Public Health Service
DESCRIPTION:St Vincent’s 2027 Graduate Nurse Program Online Information Session\nTuesday 15 June 2026\, 10am & 3pm\nLink to meeting on website\nhttps://www.svhm.org.au/education/nursing-education/graduate-nurse
URL:https://gnmp.pmcv.com.au/event/st-vincents-public-health-service/2026-06-15/1/
CATEGORIES:HS Info Sessions - Virtual
END:VEVENT
BEGIN:VEVENT
DTSTART;TZID=Australia/Melbourne:20260615T150000
DTEND;TZID=Australia/Melbourne:20260615T160000
DTSTAMP:20260424T001249
CREATED:20260417T042647Z
LAST-MODIFIED:20260417T042647Z
UID:10000298-1781535600-1781539200@gnmp.pmcv.com.au
SUMMARY:St Vincents Public Health Service
DESCRIPTION:St Vincent’s 2027 Graduate Nurse Program Online Information Session\nTuesday 15 June 2026\, 10am & 3pm\nLink to meeting on website\nhttps://www.svhm.org.au/education/nursing-education/graduate-nurse
URL:https://gnmp.pmcv.com.au/event/st-vincents-public-health-service/2026-06-15/2/
CATEGORIES:HS Info Sessions - Virtual
END:VEVENT
END:VCALENDAR