BEGIN:VCALENDAR
VERSION:2.0
PRODID:-//Graduate Nurse Midwifery Program - ECPv6.15.20//NONSGML v1.0//EN
CALSCALE:GREGORIAN
METHOD:PUBLISH
X-ORIGINAL-URL:https://gnmp.pmcv.com.au
X-WR-CALDESC:Events for Graduate Nurse Midwifery Program
REFRESH-INTERVAL;VALUE=DURATION:PT1H
X-Robots-Tag:noindex
X-PUBLISHED-TTL:PT1H
BEGIN:VTIMEZONE
TZID:Australia/Melbourne
BEGIN:STANDARD
TZOFFSETFROM:+1100
TZOFFSETTO:+1000
TZNAME:AEST
DTSTART:20250405T160000
END:STANDARD
BEGIN:DAYLIGHT
TZOFFSETFROM:+1000
TZOFFSETTO:+1100
TZNAME:AEDT
DTSTART:20251004T160000
END:DAYLIGHT
BEGIN:STANDARD
TZOFFSETFROM:+1100
TZOFFSETTO:+1000
TZNAME:AEST
DTSTART:20260404T160000
END:STANDARD
BEGIN:DAYLIGHT
TZOFFSETFROM:+1000
TZOFFSETTO:+1100
TZNAME:AEDT
DTSTART:20261003T160000
END:DAYLIGHT
BEGIN:STANDARD
TZOFFSETFROM:+1100
TZOFFSETTO:+1000
TZNAME:AEST
DTSTART:20270403T160000
END:STANDARD
BEGIN:DAYLIGHT
TZOFFSETFROM:+1000
TZOFFSETTO:+1100
TZNAME:AEDT
DTSTART:20271002T160000
END:DAYLIGHT
END:VTIMEZONE
BEGIN:VEVENT
DTSTART;TZID=Australia/Melbourne:20260321T100000
DTEND;TZID=Australia/Melbourne:20260321T110000
DTSTAMP:20260426T053901
CREATED:20260413T033645Z
LAST-MODIFIED:20260413T033645Z
UID:10000251-1774087200-1774090800@gnmp.pmcv.com.au
SUMMARY:Goulburn Valley Health
DESCRIPTION:Both info sessions will be blended (face to face and online)\n21/5/26 10-11am Elsie Jones Education Centre and Microsoft Teams https://teams.microsoft.com/meet/43672288731852?p=PeWr6zWyWpHAceyi2q\n28/5/26 2-3pm Elsie Jones Education Centre and Microsoft Teams https://teams.microsoft.com/meet/42850932816787?p=k5AT2kqzGEQOzzN6Xv
URL:https://gnmp.pmcv.com.au/event/goulburn-valley-health-2/2026-03-21/
LOCATION:GV Health\, Graham Street\, Shepparton\, Vic\, Australia
CATEGORIES:HS Info Sessions - F2F,HS Info Sessions - Virtual
END:VEVENT
BEGIN:VEVENT
DTSTART;TZID=Australia/Melbourne:20260328T153000
DTEND;TZID=Australia/Melbourne:20260328T190000
DTSTAMP:20260426T053901
CREATED:20260413T015936Z
LAST-MODIFIED:20260413T015936Z
UID:10000235-1774711800-1774724400@gnmp.pmcv.com.au
SUMMARY:Barwon Health
DESCRIPTION:HERB Lecture Theatre\, Kitchener House \nBarwon Health Mental Health\, Drugs and Alcohol Service Graduate Program and Barwon Health Nursing and Midwifery Program \nDates are 28th May\, 4th June and 25th June\nAll are Face to Face
URL:https://gnmp.pmcv.com.au/event/barwon-health-4/2026-03-28/
LOCATION:HERB Lecture Theatre\, Kitchener House\, 285-299 Ryrie Street\, Geelong\, Victoria\, 3220\, Australia
CATEGORIES:HS Info Sessions - F2F
END:VEVENT
END:VCALENDAR