BEGIN:VCALENDAR
VERSION:2.0
PRODID:-//Graduate Nurse Midwifery Program - ECPv6.15.20//NONSGML v1.0//EN
CALSCALE:GREGORIAN
METHOD:PUBLISH
X-ORIGINAL-URL:https://gnmp.pmcv.com.au
X-WR-CALDESC:Events for Graduate Nurse Midwifery Program
REFRESH-INTERVAL;VALUE=DURATION:PT1H
X-Robots-Tag:noindex
X-PUBLISHED-TTL:PT1H
BEGIN:VTIMEZONE
TZID:Australia/Melbourne
BEGIN:STANDARD
TZOFFSETFROM:+1100
TZOFFSETTO:+1000
TZNAME:AEST
DTSTART:20250405T160000
END:STANDARD
BEGIN:DAYLIGHT
TZOFFSETFROM:+1000
TZOFFSETTO:+1100
TZNAME:AEDT
DTSTART:20251004T160000
END:DAYLIGHT
BEGIN:STANDARD
TZOFFSETFROM:+1100
TZOFFSETTO:+1000
TZNAME:AEST
DTSTART:20260404T160000
END:STANDARD
BEGIN:DAYLIGHT
TZOFFSETFROM:+1000
TZOFFSETTO:+1100
TZNAME:AEDT
DTSTART:20261003T160000
END:DAYLIGHT
BEGIN:STANDARD
TZOFFSETFROM:+1100
TZOFFSETTO:+1000
TZNAME:AEST
DTSTART:20270403T160000
END:STANDARD
BEGIN:DAYLIGHT
TZOFFSETFROM:+1000
TZOFFSETTO:+1100
TZNAME:AEDT
DTSTART:20271002T160000
END:DAYLIGHT
END:VTIMEZONE
BEGIN:VEVENT
DTSTART;TZID=Australia/Melbourne:20260427T140000
DTEND;TZID=Australia/Melbourne:20260427T153000
DTSTAMP:20260424T001018
CREATED:20260417T034521Z
LAST-MODIFIED:20260417T034757Z
UID:10000284-1777298400-1777303800@gnmp.pmcv.com.au
SUMMARY:Bayside Health - Peninsula Care Group
DESCRIPTION:Bayside Health – Peninsula 2027 Graduate Information Sessions \nDate: 21st April 2026 \nTime: 2:00 – 3:30 pm \nFormat: F2F \nLocation: Peninsula University Hospital\, Ngarnga Centre\, Building Q\, 2 Hastings Road Frankston\, VIC 3199 \nBooking Link:  https://www.eventbrite.com/e/1983414848203?aff=oddtdtcreator \n  \nDate: 27th April 2026 \nTime: 2:00 – 3:30 pm \nFormat: F2F \nLocation: Peninsula University Hospital\, Ngarnga Centre\, Building Q\, 2 Hastings Road Frankston\, VIC 3199 \nBooking Link:  https://www.eventbrite.com/e/1983731258595?aff=oddtdtcreator \n  \nDate: 28th April 2026 \nTime: 2:00 – 3:30pm \nFormat: Online \nBooking Link:  https://www.eventbrite.com/e/1983731296709?aff=oddtdtcreator \n  \nBayside Health – Peninsula 2027 Graduate Question & Answer Session \nDate: 19th May 2026 \nTime: 2:00 – 3:00pm \nFormat: Online \nBooking Link:  https://www.eventbrite.com/e/1987020826782?aff=oddtdtcreator
URL:https://gnmp.pmcv.com.au/event/bayside-health-peninsula/2026-04-27/
LOCATION:Bayside Health Peninsula\, Peninsula University Hospital\, Ngarnga Centre\, Building Q\, 2 Hastings Road\, Frankston\, Victoria\, 3199\, Australia
CATEGORIES:HS Info Sessions - F2F
END:VEVENT
BEGIN:VEVENT
DTSTART;TZID=Australia/Melbourne:20260427T140000
DTEND;TZID=Australia/Melbourne:20260427T160000
DTSTAMP:20260424T001018
CREATED:20260417T063622Z
LAST-MODIFIED:20260417T064820Z
UID:10000334-1777298400-1777305600@gnmp.pmcv.com.au
SUMMARY:Forensicare
DESCRIPTION:This information session will be held at Thomas Embling Hospital\, 201 Yarra Bend Rd\, Fairfield VIC 3078. \nThis information session includes a tour of Thomas Embling Hospital. RSVP is essential\, to secure your spot\, visit the website above and register via the online form. There are limited spots available. \nBooking information: https://www.forensicare.vic.gov.au/careers/graduate-nurse-program/
URL:https://gnmp.pmcv.com.au/event/forensicare-3/
CATEGORIES:HS Info Sessions - F2F
END:VEVENT
BEGIN:VEVENT
DTSTART;TZID=Australia/Melbourne:20260428T140000
DTEND;TZID=Australia/Melbourne:20260428T153000
DTSTAMP:20260424T001018
CREATED:20260417T034617Z
LAST-MODIFIED:20260417T035813Z
UID:10000285-1777384800-1777390200@gnmp.pmcv.com.au
SUMMARY:Bayside Health - Peninsula Care Group - Online
DESCRIPTION:Date: 28th April 2026 \nTime: 2:00 – 3:30pm \nFormat: Online \nBooking Link:  https://www.eventbrite.com/e/1983731296709?aff=oddtdtcreator \n  \nBayside Health – Peninsula 2027 Graduate Question & Answer Session \nDate: 19th May 2026 \nTime: 2:00 – 3:00pm \nFormat: Online \nBooking Link:  https://www.eventbrite.com/e/1987020826782?aff=oddtdtcreator
URL:https://gnmp.pmcv.com.au/event/bayside-health-peninsula-online/2026-04-28/
CATEGORIES:HS Info Sessions - Virtual
END:VEVENT
BEGIN:VEVENT
DTSTART;TZID=Australia/Melbourne:20260429T140000
DTEND;TZID=Australia/Melbourne:20260429T153000
DTSTAMP:20260424T001018
CREATED:20260417T033046Z
LAST-MODIFIED:20260417T044436Z
UID:10000280-1777471200-1777476600@gnmp.pmcv.com.au
SUMMARY:Central Hume Graduate Nurse Program - Central Hume Graduate Nurse Program - Mansfield\, Benalla\, Northeast Health Wangaratta\, Yarrawonga\, Tallangatta Health Services
DESCRIPTION:Central Hume Graduate Nurse Program – Mansfield District Hospital\, Benalla Health\, Northeast Health Wangaratta\, Yarrawonga Health\, Tallangatta Health \nOnline session also on 22/4
URL:https://gnmp.pmcv.com.au/event/benalla-health/
LOCATION:Northeast Health Wangaratta – Learning & Teaching Auditorium\, Dixon Street\, Wangaratta\, Victoria\, 3677\, Australia
CATEGORIES:HS Info Sessions - F2F
END:VEVENT
BEGIN:VEVENT
DTSTART;TZID=Australia/Melbourne:20260430T100000
DTEND;TZID=Australia/Melbourne:20260430T113000
DTSTAMP:20260424T001018
CREATED:20260421T064852Z
LAST-MODIFIED:20260421T065923Z
UID:10000348-1777543200-1777548600@gnmp.pmcv.com.au
SUMMARY:Latrobe Regional Health
DESCRIPTION:All programs- 3 sessions (2 General\, 1 RN/RM) \nOnline and F2F \n10.00 AM to 11.30 AM – All Registered Nursing Programs\n2.00 PM to 3.00 PM – Midwifery Programs (Registered Nurse/Registered Midwife and Midwifery)\n3.00 PM to 4.30 PM – All Registered Nurse Programs (same as 10.00 AM session) \nhttps://www.trybooking.com/DKQUR
URL:https://gnmp.pmcv.com.au/event/latrobe-regional-health-2/2026-04-30/1/
LOCATION:Latrobe Regional Health\, CNR Princes Highway & Village Avenue\, Traralgon\, Vic\, 3844
CATEGORIES:Hybrid F2F & Online
END:VEVENT
BEGIN:VEVENT
DTSTART;TZID=Australia/Melbourne:20260430T110000
DTEND;TZID=Australia/Melbourne:20260430T120000
DTSTAMP:20260424T001018
CREATED:20260417T033624Z
LAST-MODIFIED:20260417T033624Z
UID:10000281-1777546800-1777550400@gnmp.pmcv.com.au
SUMMARY:Western District Health Service (WDHS)
DESCRIPTION:Virtual Information Session held online. \nBooking link: https://www.trybooking.com/events/landing/1561358 \nTours of the hospital can be arranged by contacting the Graduate Nurse Coordinator
URL:https://gnmp.pmcv.com.au/event/western-district-health-service-wdhs/
LOCATION:Online
CATEGORIES:HS Info Sessions - Virtual
END:VEVENT
BEGIN:VEVENT
DTSTART;TZID=Australia/Melbourne:20260430T140000
DTEND;TZID=Australia/Melbourne:20260430T150000
DTSTAMP:20260424T001018
CREATED:20260421T064852Z
LAST-MODIFIED:20260421T065923Z
UID:10000349-1777557600-1777561200@gnmp.pmcv.com.au
SUMMARY:Latrobe Regional Health
DESCRIPTION:All programs- 3 sessions (2 General\, 1 RN/RM) \nOnline and F2F \n10.00 AM to 11.30 AM – All Registered Nursing Programs\n2.00 PM to 3.00 PM – Midwifery Programs (Registered Nurse/Registered Midwife and Midwifery)\n3.00 PM to 4.30 PM – All Registered Nurse Programs (same as 10.00 AM session) \nhttps://www.trybooking.com/DKQUR
URL:https://gnmp.pmcv.com.au/event/latrobe-regional-health-2/2026-04-30/2/
LOCATION:Latrobe Regional Health\, CNR Princes Highway & Village Avenue\, Traralgon\, Vic\, 3844
CATEGORIES:Hybrid F2F & Online
END:VEVENT
BEGIN:VEVENT
DTSTART;TZID=Australia/Melbourne:20260430T150000
DTEND;TZID=Australia/Melbourne:20260430T163000
DTSTAMP:20260424T001018
CREATED:20260421T064852Z
LAST-MODIFIED:20260421T065923Z
UID:10000350-1777561200-1777566600@gnmp.pmcv.com.au
SUMMARY:Latrobe Regional Health
DESCRIPTION:All programs- 3 sessions (2 General\, 1 RN/RM) \nOnline and F2F \n10.00 AM to 11.30 AM – All Registered Nursing Programs\n2.00 PM to 3.00 PM – Midwifery Programs (Registered Nurse/Registered Midwife and Midwifery)\n3.00 PM to 4.30 PM – All Registered Nurse Programs (same as 10.00 AM session) \nhttps://www.trybooking.com/DKQUR
URL:https://gnmp.pmcv.com.au/event/latrobe-regional-health-2/2026-04-30/3/
LOCATION:Latrobe Regional Health\, CNR Princes Highway & Village Avenue\, Traralgon\, Vic\, 3844
CATEGORIES:Hybrid F2F & Online
END:VEVENT
END:VCALENDAR