BEGIN:VCALENDAR
VERSION:2.0
PRODID:-//Graduate Nurse Midwifery Program - ECPv6.15.20//NONSGML v1.0//EN
CALSCALE:GREGORIAN
METHOD:PUBLISH
X-WR-CALNAME:Graduate Nurse Midwifery Program
X-ORIGINAL-URL:https://gnmp.pmcv.com.au
X-WR-CALDESC:Events for Graduate Nurse Midwifery Program
REFRESH-INTERVAL;VALUE=DURATION:PT1H
X-Robots-Tag:noindex
X-PUBLISHED-TTL:PT1H
BEGIN:VTIMEZONE
TZID:Australia/Melbourne
BEGIN:STANDARD
TZOFFSETFROM:+1100
TZOFFSETTO:+1000
TZNAME:AEST
DTSTART:20250405T160000
END:STANDARD
BEGIN:DAYLIGHT
TZOFFSETFROM:+1000
TZOFFSETTO:+1100
TZNAME:AEDT
DTSTART:20251004T160000
END:DAYLIGHT
BEGIN:STANDARD
TZOFFSETFROM:+1100
TZOFFSETTO:+1000
TZNAME:AEST
DTSTART:20260404T160000
END:STANDARD
BEGIN:DAYLIGHT
TZOFFSETFROM:+1000
TZOFFSETTO:+1100
TZNAME:AEDT
DTSTART:20261003T160000
END:DAYLIGHT
BEGIN:STANDARD
TZOFFSETFROM:+1100
TZOFFSETTO:+1000
TZNAME:AEST
DTSTART:20270403T160000
END:STANDARD
BEGIN:DAYLIGHT
TZOFFSETFROM:+1000
TZOFFSETTO:+1100
TZNAME:AEDT
DTSTART:20271002T160000
END:DAYLIGHT
END:VTIMEZONE
BEGIN:VEVENT
DTSTART;TZID=Australia/Melbourne:20260609T180000
DTEND;TZID=Australia/Melbourne:20260609T190000
DTSTAMP:20260419T234802
CREATED:20260413T034841Z
LAST-MODIFIED:20260413T034841Z
UID:10000253-1781028000-1781031600@gnmp.pmcv.com.au
SUMMARY:Bayside Health - Alfred Care Group - Mental Health
DESCRIPTION:Booking link: https://www.alfredhealth.org.au/careers/nursing/graduate-nurse-programs/gnp-mental-health \nPlease access via the hospital’s front reception \nThe Terraces in the Hub (Alfred Hospital)\n55 Commercial Road\, Prahran\nMelbourne\, Victoria 3004 \nMap It
URL:https://gnmp.pmcv.com.au/event/bayside-health-alfred-care-group-mental-health/2026-06-09/
LOCATION:The Terraces\, 55 Commercial Road\, Melbourne\, Vic\, 3004\, Australia
CATEGORIES:HS Info Sessions - F2F
END:VEVENT
BEGIN:VEVENT
DTSTART;TZID=Australia/Melbourne:20260610T180000
DTEND;TZID=Australia/Melbourne:20260610T190000
DTSTAMP:20260419T234802
CREATED:20260413T034841Z
LAST-MODIFIED:20260413T034841Z
UID:10000254-1781114400-1781118000@gnmp.pmcv.com.au
SUMMARY:Bayside Health - Alfred Care Group - Mental Health
DESCRIPTION:Booking link: https://www.alfredhealth.org.au/careers/nursing/graduate-nurse-programs/gnp-mental-health \nPlease access via the hospital’s front reception \nThe Terraces in the Hub (Alfred Hospital)\n55 Commercial Road\, Prahran\nMelbourne\, Victoria 3004 \nMap It
URL:https://gnmp.pmcv.com.au/event/bayside-health-alfred-care-group-mental-health/2026-06-10/
LOCATION:The Terraces\, 55 Commercial Road\, Melbourne\, Vic\, 3004\, Australia
CATEGORIES:HS Info Sessions - F2F
END:VEVENT
END:VCALENDAR