BEGIN:VCALENDAR
VERSION:2.0
PRODID:-//Graduate Nurse Midwifery Program - ECPv6.15.20//NONSGML v1.0//EN
CALSCALE:GREGORIAN
METHOD:PUBLISH
X-WR-CALNAME:Graduate Nurse Midwifery Program
X-ORIGINAL-URL:https://gnmp.pmcv.com.au
X-WR-CALDESC:Events for Graduate Nurse Midwifery Program
REFRESH-INTERVAL;VALUE=DURATION:PT1H
X-Robots-Tag:noindex
X-PUBLISHED-TTL:PT1H
BEGIN:VTIMEZONE
TZID:Australia/Melbourne
BEGIN:STANDARD
TZOFFSETFROM:+1100
TZOFFSETTO:+1000
TZNAME:AEST
DTSTART:20250405T160000
END:STANDARD
BEGIN:DAYLIGHT
TZOFFSETFROM:+1000
TZOFFSETTO:+1100
TZNAME:AEDT
DTSTART:20251004T160000
END:DAYLIGHT
BEGIN:STANDARD
TZOFFSETFROM:+1100
TZOFFSETTO:+1000
TZNAME:AEST
DTSTART:20260404T160000
END:STANDARD
BEGIN:DAYLIGHT
TZOFFSETFROM:+1000
TZOFFSETTO:+1100
TZNAME:AEDT
DTSTART:20261003T160000
END:DAYLIGHT
BEGIN:STANDARD
TZOFFSETFROM:+1100
TZOFFSETTO:+1000
TZNAME:AEST
DTSTART:20270403T160000
END:STANDARD
BEGIN:DAYLIGHT
TZOFFSETFROM:+1000
TZOFFSETTO:+1100
TZNAME:AEDT
DTSTART:20271002T160000
END:DAYLIGHT
END:VTIMEZONE
BEGIN:VEVENT
DTSTART;TZID=Australia/Melbourne:20260430T100000
DTEND;TZID=Australia/Melbourne:20260430T113000
DTSTAMP:20260422T044602
CREATED:20260421T064852Z
LAST-MODIFIED:20260421T065923Z
UID:10000348-1777543200-1777548600@gnmp.pmcv.com.au
SUMMARY:Latrobe Regional Health
DESCRIPTION:All programs- 3 sessions (2 General\, 1 RN/RM) \nOnline and F2F \n10.00 AM to 11.30 AM – All Registered Nursing Programs\n2.00 PM to 3.00 PM – Midwifery Programs (Registered Nurse/Registered Midwife and Midwifery)\n3.00 PM to 4.30 PM – All Registered Nurse Programs (same as 10.00 AM session) \nhttps://www.trybooking.com/DKQUR
URL:https://gnmp.pmcv.com.au/event/latrobe-regional-health-2/2026-04-30/1/
LOCATION:Latrobe Regional Health\, CNR Princes Highway & Village Avenue\, Traralgon\, Vic\, 3844
CATEGORIES:Hybrid F2F & Online
END:VEVENT
BEGIN:VEVENT
DTSTART;TZID=Australia/Melbourne:20260430T140000
DTEND;TZID=Australia/Melbourne:20260430T150000
DTSTAMP:20260422T044602
CREATED:20260421T064852Z
LAST-MODIFIED:20260421T065923Z
UID:10000349-1777557600-1777561200@gnmp.pmcv.com.au
SUMMARY:Latrobe Regional Health
DESCRIPTION:All programs- 3 sessions (2 General\, 1 RN/RM) \nOnline and F2F \n10.00 AM to 11.30 AM – All Registered Nursing Programs\n2.00 PM to 3.00 PM – Midwifery Programs (Registered Nurse/Registered Midwife and Midwifery)\n3.00 PM to 4.30 PM – All Registered Nurse Programs (same as 10.00 AM session) \nhttps://www.trybooking.com/DKQUR
URL:https://gnmp.pmcv.com.au/event/latrobe-regional-health-2/2026-04-30/2/
LOCATION:Latrobe Regional Health\, CNR Princes Highway & Village Avenue\, Traralgon\, Vic\, 3844
CATEGORIES:Hybrid F2F & Online
END:VEVENT
BEGIN:VEVENT
DTSTART;TZID=Australia/Melbourne:20260430T150000
DTEND;TZID=Australia/Melbourne:20260430T163000
DTSTAMP:20260422T044602
CREATED:20260421T064852Z
LAST-MODIFIED:20260421T065923Z
UID:10000350-1777561200-1777566600@gnmp.pmcv.com.au
SUMMARY:Latrobe Regional Health
DESCRIPTION:All programs- 3 sessions (2 General\, 1 RN/RM) \nOnline and F2F \n10.00 AM to 11.30 AM – All Registered Nursing Programs\n2.00 PM to 3.00 PM – Midwifery Programs (Registered Nurse/Registered Midwife and Midwifery)\n3.00 PM to 4.30 PM – All Registered Nurse Programs (same as 10.00 AM session) \nhttps://www.trybooking.com/DKQUR
URL:https://gnmp.pmcv.com.au/event/latrobe-regional-health-2/2026-04-30/3/
LOCATION:Latrobe Regional Health\, CNR Princes Highway & Village Avenue\, Traralgon\, Vic\, 3844
CATEGORIES:Hybrid F2F & Online
END:VEVENT
END:VCALENDAR