BEGIN:VCALENDAR
VERSION:2.0
PRODID:-//Graduate Nurse Midwifery Program - ECPv6.15.20//NONSGML v1.0//EN
CALSCALE:GREGORIAN
METHOD:PUBLISH
X-ORIGINAL-URL:https://gnmp.pmcv.com.au
X-WR-CALDESC:Events for Graduate Nurse Midwifery Program
REFRESH-INTERVAL;VALUE=DURATION:PT1H
X-Robots-Tag:noindex
X-PUBLISHED-TTL:PT1H
BEGIN:VTIMEZONE
TZID:Australia/Melbourne
BEGIN:STANDARD
TZOFFSETFROM:+1100
TZOFFSETTO:+1000
TZNAME:AEST
DTSTART:20250405T160000
END:STANDARD
BEGIN:DAYLIGHT
TZOFFSETFROM:+1000
TZOFFSETTO:+1100
TZNAME:AEDT
DTSTART:20251004T160000
END:DAYLIGHT
BEGIN:STANDARD
TZOFFSETFROM:+1100
TZOFFSETTO:+1000
TZNAME:AEST
DTSTART:20260404T160000
END:STANDARD
BEGIN:DAYLIGHT
TZOFFSETFROM:+1000
TZOFFSETTO:+1100
TZNAME:AEDT
DTSTART:20261003T160000
END:DAYLIGHT
BEGIN:STANDARD
TZOFFSETFROM:+1100
TZOFFSETTO:+1000
TZNAME:AEST
DTSTART:20270403T160000
END:STANDARD
BEGIN:DAYLIGHT
TZOFFSETFROM:+1000
TZOFFSETTO:+1100
TZNAME:AEDT
DTSTART:20271002T160000
END:DAYLIGHT
END:VTIMEZONE
BEGIN:VEVENT
DTSTART;TZID=Australia/Melbourne:20260508T080000
DTEND;TZID=Australia/Melbourne:20260508T170000
DTSTAMP:20260420T230914
CREATED:20260414T034506Z
LAST-MODIFIED:20260420T045704Z
UID:10000339-1778227200-1778259600@gnmp.pmcv.com.au
SUMMARY:Bairnsdale Regional Health Service - F2F
DESCRIPTION:https://teams.microsoft.com/meet/46705023407959?p=HVl7TPOcraK3m9RiqO \nFriday the 8th of May 1530-1630 via Teams link above \nMeeting ID: 467 050 234 079 59 \nPasscode: vA7QX9JW
URL:https://gnmp.pmcv.com.au/event/bairnsdale-regional-health-service-f2f/2026-05-08/1/
LOCATION:Bairnsdale Regional Health Service\, Day Street\, Bairnsdale\, Victoria\, 3875\, Australia
CATEGORIES:HS Info Sessions - F2F
END:VEVENT
BEGIN:VEVENT
DTSTART;TZID=Australia/Melbourne:20260508T140000
DTEND;TZID=Australia/Melbourne:20260508T140000
DTSTAMP:20260420T230914
CREATED:20260414T034506Z
LAST-MODIFIED:20260420T045704Z
UID:10000340-1778248800-1778248800@gnmp.pmcv.com.au
SUMMARY:Bairnsdale Regional Health Service - F2F
DESCRIPTION:https://teams.microsoft.com/meet/46705023407959?p=HVl7TPOcraK3m9RiqO \nFriday the 8th of May 1530-1630 via Teams link above \nMeeting ID: 467 050 234 079 59 \nPasscode: vA7QX9JW
URL:https://gnmp.pmcv.com.au/event/bairnsdale-regional-health-service-f2f/2026-05-08/2/
LOCATION:Bairnsdale Regional Health Service\, Day Street\, Bairnsdale\, Victoria\, 3875\, Australia
CATEGORIES:HS Info Sessions - F2F
END:VEVENT
END:VCALENDAR