BEGIN:VCALENDAR
VERSION:2.0
PRODID:-//Graduate Nurse Midwifery Program - ECPv6.15.20//NONSGML v1.0//EN
CALSCALE:GREGORIAN
METHOD:PUBLISH
X-WR-CALNAME:Graduate Nurse Midwifery Program
X-ORIGINAL-URL:https://gnmp.pmcv.com.au
X-WR-CALDESC:Events for Graduate Nurse Midwifery Program
REFRESH-INTERVAL;VALUE=DURATION:PT1H
X-Robots-Tag:noindex
X-PUBLISHED-TTL:PT1H
BEGIN:VTIMEZONE
TZID:Australia/Melbourne
BEGIN:STANDARD
TZOFFSETFROM:+1100
TZOFFSETTO:+1000
TZNAME:AEST
DTSTART:20230401T160000
END:STANDARD
BEGIN:DAYLIGHT
TZOFFSETFROM:+1000
TZOFFSETTO:+1100
TZNAME:AEDT
DTSTART:20230930T160000
END:DAYLIGHT
BEGIN:STANDARD
TZOFFSETFROM:+1100
TZOFFSETTO:+1000
TZNAME:AEST
DTSTART:20240406T160000
END:STANDARD
BEGIN:DAYLIGHT
TZOFFSETFROM:+1000
TZOFFSETTO:+1100
TZNAME:AEDT
DTSTART:20241005T160000
END:DAYLIGHT
BEGIN:STANDARD
TZOFFSETFROM:+1100
TZOFFSETTO:+1000
TZNAME:AEST
DTSTART:20250405T160000
END:STANDARD
BEGIN:DAYLIGHT
TZOFFSETFROM:+1000
TZOFFSETTO:+1100
TZNAME:AEDT
DTSTART:20251004T160000
END:DAYLIGHT
BEGIN:STANDARD
TZOFFSETFROM:+1100
TZOFFSETTO:+1000
TZNAME:AEST
DTSTART:20260404T160000
END:STANDARD
BEGIN:DAYLIGHT
TZOFFSETFROM:+1000
TZOFFSETTO:+1100
TZNAME:AEDT
DTSTART:20261003T160000
END:DAYLIGHT
END:VTIMEZONE
BEGIN:VEVENT
DTSTART;TZID=Australia/Melbourne:20250528T160000
DTEND;TZID=Australia/Melbourne:20250528T173000
DTSTAMP:20260426T061514
CREATED:20250324T011359Z
LAST-MODIFIED:20250402T222220Z
UID:10000119-1748448000-1748453400@gnmp.pmcv.com.au
SUMMARY:Eastern Health
DESCRIPTION:All 6 programs covered – General Nursing\, Mental Health\, Mental Health and Nursing\, Midwifery\, Midwifery and Nursing\, Collaborative pathway with Alexandra District Health rural/metro
URL:https://gnmp.pmcv.com.au/event/eastern-health-3/2025-05-28/
LOCATION:Eastern Health – Box Hill\, 5 Arnold Street\, Box Hill
CATEGORIES:HS Info Sessions - F2F
END:VEVENT
BEGIN:VEVENT
DTSTART;TZID=Australia/Melbourne:20250522T160000
DTEND;TZID=Australia/Melbourne:20250522T173000
DTSTAMP:20260426T061514
CREATED:20250324T011359Z
LAST-MODIFIED:20250402T222220Z
UID:10000118-1747929600-1747935000@gnmp.pmcv.com.au
SUMMARY:Eastern Health
DESCRIPTION:All 6 programs covered – General Nursing\, Mental Health\, Mental Health and Nursing\, Midwifery\, Midwifery and Nursing\, Collaborative pathway with Alexandra District Health rural/metro
URL:https://gnmp.pmcv.com.au/event/eastern-health-3/2025-05-22/
LOCATION:Eastern Health – Box Hill\, 5 Arnold Street\, Box Hill
CATEGORIES:HS Info Sessions - F2F
END:VEVENT
BEGIN:VEVENT
DTSTART;TZID=Australia/Melbourne:20240606T160000
DTEND;TZID=Australia/Melbourne:20240606T173000
DTSTAMP:20260426T061514
CREATED:20240320T234852Z
LAST-MODIFIED:20240429T221017Z
UID:10000029-1717689600-1717695000@gnmp.pmcv.com.au
SUMMARY:Eastern Health
DESCRIPTION:Check Eastern Health Website for further details: \nIncludes positions at: Eastern Health\, Alexandra District Health\, Angliss Hospital\, Box Hill Hospital\, Maroondah Hospital\, Healesville Hospital and Yarra Valley Health\, Peter James Centre\, Wantirna Health\, Yarra Ranges Health. \n 
URL:https://gnmp.pmcv.com.au/event/eastern-heatlh/
LOCATION:Eastern Health – Box Hill\, 5 Arnold Street\, Box Hill
CATEGORIES:HS Info Sessions - F2F
END:VEVENT
END:VCALENDAR