BEGIN:VCALENDAR
VERSION:2.0
PRODID:-//Graduate Nurse Midwifery Program - ECPv6.15.20//NONSGML v1.0//EN
CALSCALE:GREGORIAN
METHOD:PUBLISH
X-WR-CALNAME:Graduate Nurse Midwifery Program
X-ORIGINAL-URL:https://gnmp.pmcv.com.au
X-WR-CALDESC:Events for Graduate Nurse Midwifery Program
REFRESH-INTERVAL;VALUE=DURATION:PT1H
X-Robots-Tag:noindex
X-PUBLISHED-TTL:PT1H
BEGIN:VTIMEZONE
TZID:Australia/Melbourne
BEGIN:STANDARD
TZOFFSETFROM:+1100
TZOFFSETTO:+1000
TZNAME:AEST
DTSTART:20250405T160000
END:STANDARD
BEGIN:DAYLIGHT
TZOFFSETFROM:+1000
TZOFFSETTO:+1100
TZNAME:AEDT
DTSTART:20251004T160000
END:DAYLIGHT
BEGIN:STANDARD
TZOFFSETFROM:+1100
TZOFFSETTO:+1000
TZNAME:AEST
DTSTART:20260404T160000
END:STANDARD
BEGIN:DAYLIGHT
TZOFFSETFROM:+1000
TZOFFSETTO:+1100
TZNAME:AEDT
DTSTART:20261003T160000
END:DAYLIGHT
BEGIN:STANDARD
TZOFFSETFROM:+1100
TZOFFSETTO:+1000
TZNAME:AEST
DTSTART:20270403T160000
END:STANDARD
BEGIN:DAYLIGHT
TZOFFSETFROM:+1000
TZOFFSETTO:+1100
TZNAME:AEDT
DTSTART:20271002T160000
END:DAYLIGHT
END:VTIMEZONE
BEGIN:VEVENT
DTSTART;TZID=Australia/Melbourne:20260519T110000
DTEND;TZID=Australia/Melbourne:20260519T120000
DTSTAMP:20260420T025842
CREATED:20260417T065618Z
LAST-MODIFIED:20260417T065618Z
UID:10000336-1779188400-1779192000@gnmp.pmcv.com.au
SUMMARY:South West Healthcare
DESCRIPTION:All Streams and Programs will be covered \nThis session will introduce some of our Key Staff including some of our education team\, overview South West Healthcare\, program and rotations options\, and site tour. Hybrid- In Person Preferred with Virtual option available
URL:https://gnmp.pmcv.com.au/event/south-west-healthcare-2/
LOCATION:South West Healthcare\, Ryot Street\, Warrnambool\, Victoria\, 3280\, Australia
CATEGORIES:Hybrid F2F & Online
END:VEVENT
BEGIN:VEVENT
DTSTART;TZID=Australia/Melbourne:20260519T110000
DTEND;TZID=Australia/Melbourne:20260519T130000
DTSTAMP:20260420T025842
CREATED:20260417T053047Z
LAST-MODIFIED:20260417T053047Z
UID:10000319-1779188400-1779195600@gnmp.pmcv.com.au
SUMMARY:South West Health Care
DESCRIPTION:
URL:https://gnmp.pmcv.com.au/event/south-west-health-care/
LOCATION:South West Healthcare\, Ryot Street\, Warrnambool\, Victoria\, 3280\, Australia
CATEGORIES:HS Info Sessions - F2F
END:VEVENT
END:VCALENDAR